BEGIN:VCALENDAR
VERSION:2.0
PRODID:icalendar-ruby
CALSCALE:GREGORIAN
METHOD:PUBLISH
BEGIN:VEVENT
DTSTAMP:20260420T014613Z
UID:71-1171915@rolsouthhill.org
DTSTART:20260715T120000Z
DTEND:20260718T220000Z
CLASS:PUBLIC
CREATED:20260321T234237
DESCRIPTION:Location: New Hope (NRV) | Transportation details at registrati
 on Dates: July 15th – July 18th\nTheme: ADVENTURE: Water Games\, Connect
 ions\, Growth\nThe Ultimate Summer Adventure! Parents\, get your kids read
 y for an unforgettable experience at Camp Adventure! At River of Life\, we
  have many kids who call our church home\, and we are dedicated to providi
 ng them with an amazing\, safe\, and high-energy environment to learn abou
 t Jesus.\nWhat’s in Store: Water Games: Get ready to get soaked with our
  legendary outdoor water activities!\nKingdom Growth: Fun\, age-appropriat
 e Bible lessons and worship.\nNew Friends: A chance to connect with other 
 kids in a positive\, faith-filled setting.\nRegistration Details: Early Bi
 rd: $150 (Sign up by June 1st!)\nStandard: $175 (After June 1st)\nRegister
  at: www.newhopenrv.com/CAMP
LAST-MODIFIED:20260321T234237
LOCATION:Camp Maranatha: 5847 Oak Grove Pl\, Dublin\, VA 24084
SUMMARY:Camp Adventure (K - 5th Grade)
URL;VALUE=URI:https://www.rolsouthhill.org/events/camp-adventure-k-5th-grad
 e/2026-07-15
ATTACH;FILENAME=Gemini_Generated_Image_f8cdkff8cdkff8cd.png;FMTTYPE=image/p
 ng:https://dq5pwpg1q8ru0.cloudfront.net/2026/03/22/03/42/36/d0256ab4-a75b-
 4d4c-89a9-c4f468c090c9/Gemini_Generated_Image_f8cdkff8cdkff8cd.png
END:VEVENT
END:VCALENDAR
