BEGIN:VCALENDAR
VERSION:2.0
PRODID:icalendar-ruby
CALSCALE:GREGORIAN
METHOD:PUBLISH
BEGIN:VEVENT
DTSTAMP:20260420T014259Z
UID:68-1171904@rolsouthhill.org
DTSTART:20260611T120000Z
DTEND:20260611T170000Z
CLASS:PUBLIC
CREATED:20260321T230449
DESCRIPTION:Location: 229 Windsor Street\, South Hill\, VA 23970\nDates: Ju
 ne 11th\, 12th\, &amp\; 13th\nTime: 8:00 AM – 1:00 PM Daily\nCalling All
  Kids! \nGet ready for three days of non-stop fun\, faith\, and friendship
 ! River of Life is hosting Vacation Bible School\, and we want YOUR kids t
 o be a part of the adventure. We are a church that loves our many kids\, a
 nd our VBS is designed to be the highlight of their summer!\nWhat to Expec
 t\nFrom 8:00 AM to 1:00 PM each day\, your children will experience:\nInte
 ractive Bible Lessons: Learning about the life-changing message of Jesus.\
 nHigh-Energy Games: Plenty of space to run and play!\nCreative Crafts &amp
 \; Music: Discovering their talents while praising God.\nKingdom Impact: W
 e are a growing church on a mission to impact South Hill\, and that starts
  with investing in the next generation.\nSafe\, Fun\, and Welcoming\nAt Ri
 ver of Life\, we pride ourselves on being a place where kids feel at home.
  Whether your family attends every Sunday or this is your first time throu
 gh our doors\, your child will find a warm welcome here.\nThe Schedule\n 
     Drop-off Begins: 7:45 AM\n     Program Runs: 8:00 AM – 1:00 PM\
 n     Dates: Thursday\, June 11th – Saturday\, June 13th\n     Whe
 re: 229 Windsor Street\, South Hill\, VA\nInvite a friend! VBS is always b
 etter with a buddy. Let’s make this a summer they’ll never forget as w
 e grow together in the Kingdom of God.\nKeep an eye on this page! We will 
 be posting registration details and theme reveals very soon.
LAST-MODIFIED:20260321T230449
LOCATION:229 Windsor Street\, South Hill\, VA 23970
SUMMARY:VBS
URL;VALUE=URI:https://www.rolsouthhill.org/events/vbs--68/2026-06-11
ATTACH;FILENAME=Gemini_Generated_Image_6fzgq86fzgq86fzg.png;FMTTYPE=image/p
 ng:https://dq5pwpg1q8ru0.cloudfront.net/2026/03/22/03/04/48/47e42e57-78ef-
 4f4d-964c-846d04c9ab16/Gemini_Generated_Image_6fzgq86fzgq86fzg.png
END:VEVENT
END:VCALENDAR
